BEGIN:VCALENDAR
VERSION:2.0
PRODID:-//OVR SCCA - ECPv5.16.4//NONSGML v1.0//EN
CALSCALE:GREGORIAN
METHOD:PUBLISH
X-WR-CALNAME:OVR SCCA
X-ORIGINAL-URL:https://ovr-scca.org
X-WR-CALDESC:Events for OVR SCCA
BEGIN:VTIMEZONE
TZID:America/New_York
BEGIN:DAYLIGHT
TZOFFSETFROM:-0500
TZOFFSETTO:-0400
TZNAME:EDT
DTSTART:20230312T070000
END:DAYLIGHT
BEGIN:STANDARD
TZOFFSETFROM:-0400
TZOFFSETTO:-0500
TZNAME:EST
DTSTART:20231105T060000
END:STANDARD
END:VTIMEZONE
BEGIN:VEVENT
DTSTART;VALUE=DATE:20231014
DTEND;VALUE=DATE:20231016
DTSTAMP:20260422T140927
CREATED:20230308T033150Z
LAST-MODIFIED:20240210T034201Z
UID:5060-1697241600-1697414399@ovr-scca.org
SUMMARY:Ohio Valley Autumn Classic XLII Road Race 2023
DESCRIPTION:
URL:https://ovr-scca.org/event/ohio-valley-autumn-classic-xlii-road-race-2023/
LOCATION:Mid-Ohio Sports Car Course\, Steam Corners Rd\, Lexington\, OH\, 7721\, United States
CATEGORIES:Club Racing
ORGANIZER;CN="Ohio%20Valley%20Region%20SCCA":MAILTO:ovrwebsite@ovr-scca.org
GEO:40.686821;-82.6343948
X-APPLE-STRUCTURED-LOCATION;VALUE=URI;X-ADDRESS=Mid-Ohio Sports Car Course Steam Corners Rd Lexington OH 7721 United States;X-APPLE-RADIUS=500;X-TITLE=Steam Corners Rd:geo:-82.6343948,40.686821
END:VEVENT
END:VCALENDAR