BEGIN:VCALENDAR
VERSION:2.0
PRODID:-//OVR SCCA - ECPv5.16.4//NONSGML v1.0//EN
CALSCALE:GREGORIAN
METHOD:PUBLISH
X-WR-CALNAME:OVR SCCA
X-ORIGINAL-URL:https://ovr-scca.org
X-WR-CALDESC:Events for OVR SCCA
BEGIN:VTIMEZONE
TZID:America/New_York
BEGIN:DAYLIGHT
TZOFFSETFROM:-0500
TZOFFSETTO:-0400
TZNAME:EDT
DTSTART:20250309T070000
END:DAYLIGHT
BEGIN:STANDARD
TZOFFSETFROM:-0400
TZOFFSETTO:-0500
TZNAME:EST
DTSTART:20251102T060000
END:STANDARD
END:VTIMEZONE
BEGIN:VEVENT
DTSTART;TZID=America/New_York:20250809T070000
DTEND;TZID=America/New_York:20250810T170000
DTSTAMP:20260422T140757
CREATED:20250128T022124Z
LAST-MODIFIED:20250815T165723Z
UID:53740-1754722800-1754845200@ovr-scca.org
SUMMARY:Ohio Valley Region 2025 Sprints
DESCRIPTION:Welcome to the Ohio Valley Region Sprints 2025 Driver Registration \nThis is your point of registration for the race weekend.\n(if you are a worker/volunteer please go here to register for this event) \nOhio Valley Region Sprints 2025\nAugust 9th-10th 2025\nMID-OHIO SPORTS CAR COURSE  –  LEXINGTON\, OHIO\nSANCTION NUMBER: # TBD \n       
URL:https://ovr-scca.org/event/ohio-valley-region-2025-sprints/
LOCATION:Mid-Ohio Sports Car Course\, Steam Corners Rd\, Lexington\, OH\, 7721\, United States
CATEGORIES:Club Racing
ORGANIZER;CN="Ohio%20Valley%20Region%20SCCA":MAILTO:ovrwebsite@ovr-scca.org
GEO:40.686821;-82.6343948
X-APPLE-STRUCTURED-LOCATION;VALUE=URI;X-ADDRESS=Mid-Ohio Sports Car Course Steam Corners Rd Lexington OH 7721 United States;X-APPLE-RADIUS=500;X-TITLE=Steam Corners Rd:geo:-82.6343948,40.686821
END:VEVENT
END:VCALENDAR