BEGIN:VCALENDAR
VERSION:2.0
PRODID:-//OVR SCCA - ECPv5.16.4//NONSGML v1.0//EN
CALSCALE:GREGORIAN
METHOD:PUBLISH
X-WR-CALNAME:OVR SCCA
X-ORIGINAL-URL:https://ovr-scca.org
X-WR-CALDESC:Events for OVR SCCA
BEGIN:VTIMEZONE
TZID:America/New_York
BEGIN:DAYLIGHT
TZOFFSETFROM:-0500
TZOFFSETTO:-0400
TZNAME:EDT
DTSTART:20230312T070000
END:DAYLIGHT
BEGIN:STANDARD
TZOFFSETFROM:-0400
TZOFFSETTO:-0500
TZNAME:EST
DTSTART:20231105T060000
END:STANDARD
END:VTIMEZONE
BEGIN:VEVENT
DTSTART;TZID=America/New_York:20230204T180000
DTEND;TZID=America/New_York:20230204T220000
DTSTAMP:20260422T140802
CREATED:20221209T145530Z
LAST-MODIFIED:20221217T124020Z
UID:4860-1675533600-1675548000@ovr-scca.org
SUMMARY:Ohio Valley Region Banquet 2023
DESCRIPTION:Ohio Valley Region SCCA\n2022 Awards Banquet and Socializer\n\nSaturday February 4th\, 2023\n\nHosted at J. Liu Restaurant\n6880 High Street\nWorthington\, OH  43085\n\nOpen to All Ohio Valley Region Members & Their Guests\n\nRegister at OVR Banquet\n\nEmail any questions to social@ovr-scca.org
URL:https://ovr-scca.org/event/ohio-valley-region-banquet-2023/
LOCATION:J. Liu\, 6880 High Street\, Worthington\, OH\, 43085\, United States
CATEGORIES:Socializer
ORGANIZER;CN="Ohio%20Valley%20Region%20SCCA":MAILTO:ovrwebsite@ovr-scca.org
END:VEVENT
END:VCALENDAR