BEGIN:VCALENDAR
VERSION:2.0
PRODID:-//OVR SCCA - ECPv5.16.4//NONSGML v1.0//EN
CALSCALE:GREGORIAN
METHOD:PUBLISH
X-WR-CALNAME:OVR SCCA
X-ORIGINAL-URL:https://ovr-scca.org
X-WR-CALDESC:Events for OVR SCCA
BEGIN:VTIMEZONE
TZID:America/New_York
BEGIN:DAYLIGHT
TZOFFSETFROM:-0500
TZOFFSETTO:-0400
TZNAME:EDT
DTSTART:20240310T070000
END:DAYLIGHT
BEGIN:STANDARD
TZOFFSETFROM:-0400
TZOFFSETTO:-0500
TZNAME:EST
DTSTART:20241103T060000
END:STANDARD
END:VTIMEZONE
BEGIN:VEVENT
DTSTART;TZID=America/New_York:20240203T180000
DTEND;TZID=America/New_York:20240203T210000
DTSTAMP:20260425T203934
CREATED:20231001T235752Z
LAST-MODIFIED:20231002T000710Z
UID:5570-1706983200-1706994000@ovr-scca.org
SUMMARY:OVR 2023 Awards Banquet
DESCRIPTION:The 2023 Awards Banquet will be held on February 3rd\, 2024 at Villa Milano starting at 6:00 PM.\nA short pre-banquet survey will be placed in MSR in Mid-October and will be available until November 15th 2023. The banquet committee asks that you complete the survey. Banquet registration will open on December 1st 2023 and will be done through MSR. More details will be on the banquet registration form.
URL:https://ovr-scca.org/event/ovr-2023-awards-banquet/
LOCATION:Villa Milano\, 1630 Schrock Rd\, Columbus\, OH\, 43229\, United States
CATEGORIES:Socializer
ORGANIZER;CN="Ohio%20Valley%20Region%20SCCA":MAILTO:ovrwebsite@ovr-scca.org
END:VEVENT
END:VCALENDAR