BEGIN:VCALENDAR
VERSION:2.0
PRODID:-//OVR SCCA - ECPv5.16.4//NONSGML v1.0//EN
CALSCALE:GREGORIAN
METHOD:PUBLISH
X-WR-CALNAME:OVR SCCA
X-ORIGINAL-URL:https://ovr-scca.org
X-WR-CALDESC:Events for OVR SCCA
BEGIN:VTIMEZONE
TZID:America/New_York
BEGIN:DAYLIGHT
TZOFFSETFROM:-0500
TZOFFSETTO:-0400
TZNAME:EDT
DTSTART:20220313T070000
END:DAYLIGHT
BEGIN:STANDARD
TZOFFSETFROM:-0400
TZOFFSETTO:-0500
TZNAME:EST
DTSTART:20221106T060000
END:STANDARD
END:VTIMEZONE
BEGIN:VEVENT
DTSTART;TZID=America/New_York:20221015T073000
DTEND;TZID=America/New_York:20221015T170000
DTSTAMP:20260424T185955
CREATED:20220810T235517Z
LAST-MODIFIED:20220810T235656Z
UID:4291-1665819000-1665853200@ovr-scca.org
SUMMARY:OVR SCCA Solo 2022 - Fun Event
DESCRIPTION:OVR SCCA Solo 2022 – Fun Event
URL:https://ovr-scca.org/event/ovr-scca-solo-2022-fun-event/
LOCATION:Fortress Obetz\, 2015 Recreation Trail\, Obetz\, OH\, 43207\, United States
CATEGORIES:Autocross
ORGANIZER;CN="Ohio%20Valley%20Region%20SCCA":MAILTO:ovrwebsite@ovr-scca.org
GEO:39.8854825;-82.944148
X-APPLE-STRUCTURED-LOCATION;VALUE=URI;X-ADDRESS=Fortress Obetz 2015 Recreation Trail Obetz OH 43207 United States;X-APPLE-RADIUS=500;X-TITLE=2015 Recreation Trail:geo:-82.944148,39.8854825
END:VEVENT
BEGIN:VEVENT
DTSTART;TZID=America/New_York:20221015T080000
DTEND;TZID=America/New_York:20221016T170000
DTSTAMP:20260424T185955
CREATED:20220402T040242Z
LAST-MODIFIED:20221020T040418Z
UID:4119-1665820800-1665939600@ovr-scca.org
SUMMARY:2022 OVR Autumn Classic XLI
DESCRIPTION:
URL:https://ovr-scca.org/event/ovr-fall-double-regional/
LOCATION:Mid-Ohio Sports Car Course\, Steam Corners Rd\, Lexington\, OH\, 7721\, United States
CATEGORIES:Club Racing
ORGANIZER;CN="Ohio%20Valley%20Region%20SCCA":MAILTO:ovrwebsite@ovr-scca.org
GEO:40.686821;-82.6343948
X-APPLE-STRUCTURED-LOCATION;VALUE=URI;X-ADDRESS=Mid-Ohio Sports Car Course Steam Corners Rd Lexington OH 7721 United States;X-APPLE-RADIUS=500;X-TITLE=Steam Corners Rd:geo:-82.6343948,40.686821
END:VEVENT
END:VCALENDAR