BEGIN:VCALENDAR
VERSION:2.0
PRODID:-//OVR SCCA - ECPv5.16.4//NONSGML v1.0//EN
CALSCALE:GREGORIAN
METHOD:PUBLISH
X-WR-CALNAME:OVR SCCA
X-ORIGINAL-URL:https://ovr-scca.org
X-WR-CALDESC:Events for OVR SCCA
BEGIN:VTIMEZONE
TZID:America/New_York
BEGIN:DAYLIGHT
TZOFFSETFROM:-0500
TZOFFSETTO:-0400
TZNAME:EDT
DTSTART:20230312T070000
END:DAYLIGHT
BEGIN:STANDARD
TZOFFSETFROM:-0400
TZOFFSETTO:-0500
TZNAME:EST
DTSTART:20231105T060000
END:STANDARD
END:VTIMEZONE
BEGIN:VEVENT
DTSTART;TZID=America/New_York:20230625T073000
DTEND;TZID=America/New_York:20230625T170000
DTSTAMP:20260425T085948
CREATED:20221217T124729Z
LAST-MODIFIED:20230629T165535Z
UID:4926-1687678200-1687712400@ovr-scca.org
SUMMARY:OVR SCCA Solo 2023 Governor's Cup & Points Event 3
DESCRIPTION:This Sunday event will be for the Annual Governors Cup. The morning event will be Points Event 3. We will run 3 runs in the morning for up to 128 participants. Winners for each class are determined at this point and then each class winner is invited to participate in a run off called the Governor’s Cup. After class winners\, we take best results based on PAX index until we have a field of 64 drivers. These 64 drivers then all do an additional run\, from there the top 32 folks advance to the next round\, also getting to do an additional run. When there are 16 drivers a random draw will occur\, and a bracket is created with those 16 drivers\, at this point\, all 16 drivers run off their pairings until we have an overall winner!  This is an awesome event to participate in and to watch also! It is a very unique event\, and you never know when a cone might jump into the way of a great driver letting an unexpected driver advance! Join us for the fun\, but don’t forget to register early.
URL:https://ovr-scca.org/event/ovr-scca-solo-points-events-2023-06-11-2023-06-25/
LOCATION:Fortress Obetz\, 2015 Recreation Trail\, Obetz\, OH\, 43207\, United States
CATEGORIES:Autocross
ORGANIZER;CN="Ohio%20Valley%20Region%20SCCA":MAILTO:ovrwebsite@ovr-scca.org
GEO:39.8854825;-82.944148
X-APPLE-STRUCTURED-LOCATION;VALUE=URI;X-ADDRESS=Fortress Obetz 2015 Recreation Trail Obetz OH 43207 United States;X-APPLE-RADIUS=500;X-TITLE=2015 Recreation Trail:geo:-82.944148,39.8854825
END:VEVENT
END:VCALENDAR